BEGIN:VCALENDAR
VERSION:2.0
PRODID:SchoolNow
CALSCALE:GREGORIAN
BEGIN:VEVENT
UID:3dc49b6c-6226-11ee-99e5-0a58a9feac02
DTSTAMP:20231003T195127Z
SUMMARY:Rolls for Roosevelt!
URL;VALUE=URI:https://www.dickinson.k12.nd.us/schools/roosevelt/calendar/48
 27656/rolls-for-roosevelt
DTSTART:20231027T133000Z
DTEND:20231027T140000Z
END:VEVENT
END:VCALENDAR
