BEGIN:VCALENDAR
VERSION:2.0
PRODID:SchoolNow
CALSCALE:GREGORIAN
BEGIN:VEVENT
UID:f03a79ee-6224-11ee-80f1-0a58a9feac02
DTSTAMP:20231003T194208Z
SUMMARY:1pm Dismissal!
URL;VALUE=URI:https://www.dickinson.k12.nd.us/schools/roosevelt/calendar/48
 27642/1pm-dismissal
DTSTART:20231027T190000Z
DTEND:20231027T210500Z
END:VEVENT
END:VCALENDAR
