BEGIN:VCALENDAR
VERSION:2.0
PRODID:SchoolNow
CALSCALE:GREGORIAN
BEGIN:VEVENT
UID:b4e39da8-6224-11ee-9a00-0acd9ea49f0b
DTSTAMP:20231003T194028Z
SUMMARY:1pm Dismissal!  Last Day of School!
URL;VALUE=URI:https://www.dickinson.k12.nd.us/schools/roosevelt/calendar/48
 27641/1pm-dismissal-last-day-of-school
DTSTART:20240523T190000Z
DTEND:20240523T210500Z
END:VEVENT
END:VCALENDAR
