BEGIN:VCALENDAR
VERSION:2.0
PRODID:SchoolNow
CALSCALE:GREGORIAN
BEGIN:VEVENT
UID:8ac30f0e-6224-11ee-b6b1-0a58a9feac02
DTSTAMP:20231003T193918Z
SUMMARY:No School!
URL;VALUE=URI:https://www.dickinson.k12.nd.us/schools/roosevelt/calendar/48
 27640/no-school
DTSTART;VALUE=DATE:20240429
DTEND;VALUE=DATE:20240430
END:VEVENT
END:VCALENDAR
