BEGIN:VCALENDAR
VERSION:2.0
PRODID:SchoolNow
CALSCALE:GREGORIAN
BEGIN:VEVENT
UID:56f0f362-6224-11ee-937c-0a9d765d54b1
DTSTAMP:20231003T193751Z
SUMMARY:No School!  Easter Monday!
URL;VALUE=URI:https://www.dickinson.k12.nd.us/schools/roosevelt/calendar/48
 27638/no-school-easter-monday
DTSTART;VALUE=DATE:20240401
DTEND;VALUE=DATE:20240402
END:VEVENT
END:VCALENDAR
