BEGIN:VCALENDAR
VERSION:2.0
PRODID:SchoolNow
CALSCALE:GREGORIAN
BEGIN:VEVENT
UID:36a6c604-6224-11ee-9c79-0a58a9feac02
DTSTAMP:20231003T193657Z
SUMMARY:No School!
URL;VALUE=URI:https://www.dickinson.k12.nd.us/schools/roosevelt/calendar/48
 27636/no-school
DTSTART;VALUE=DATE:20240328
DTEND;VALUE=DATE:20240329
END:VEVENT
END:VCALENDAR
