BEGIN:VCALENDAR
VERSION:2.0
PRODID:SchoolNow
CALSCALE:GREGORIAN
BEGIN:VEVENT
UID:26728516-6224-11ee-8e78-0a58a9feac02
DTSTAMP:20231003T193629Z
SUMMARY:1pm Dismissal!
URL;VALUE=URI:https://www.dickinson.k12.nd.us/schools/roosevelt/calendar/48
 27635/1pm-dismissal
DTSTART:20240322T190000Z
DTEND:20240322T210500Z
END:VEVENT
END:VCALENDAR
