BEGIN:VCALENDAR
VERSION:2.0
PRODID:SchoolNow
CALSCALE:GREGORIAN
BEGIN:VEVENT
UID:06323c52-6223-11ee-939a-0a58a9feac02
DTSTAMP:20231003T192826Z
SUMMARY:No School!
URL;VALUE=URI:https://www.dickinson.k12.nd.us/schools/roosevelt/calendar/48
 27629/no-school
DTSTART;VALUE=DATE:20240220
DTEND;VALUE=DATE:20240221
END:VEVENT
END:VCALENDAR
