BEGIN:VCALENDAR
VERSION:2.0
PRODID:SchoolNow
CALSCALE:GREGORIAN
BEGIN:VEVENT
UID:6cdbd306-6222-11ee-8699-0e21c6c8db91
DTSTAMP:20231003T192408Z
SUMMARY:No School!  Christmas Break!
URL;VALUE=URI:https://www.dickinson.k12.nd.us/schools/roosevelt/calendar/48
 27626/no-school-christmas-break
DTSTART;VALUE=DATE:20231222
DTEND;VALUE=DATE:20240102
END:VEVENT
END:VCALENDAR
