BEGIN:VCALENDAR
VERSION:2.0
PRODID:SchoolNow
CALSCALE:GREGORIAN
BEGIN:VEVENT
UID:4c6fe4ae-6222-11ee-a4af-0a58a9feac02
DTSTAMP:20231003T192314Z
SUMMARY:1pm Dismissal!
URL;VALUE=URI:https://www.dickinson.k12.nd.us/schools/roosevelt/calendar/48
 27625/1pm-dismissal
DTSTART:20231208T200000Z
DTEND:20231208T220500Z
END:VEVENT
END:VCALENDAR
