BEGIN:VCALENDAR
VERSION:2.0
PRODID:SchoolNow
CALSCALE:GREGORIAN
BEGIN:VEVENT
UID:074adf32-6222-11ee-8650-0a756eb709e9
DTSTAMP:20231003T192118Z
SUMMARY:No School!
URL;VALUE=URI:https://www.dickinson.k12.nd.us/schools/roosevelt/calendar/48
 27624/no-school
DTSTART;VALUE=DATE:20231124
DTEND;VALUE=DATE:20231125
END:VEVENT
END:VCALENDAR
