BEGIN:VCALENDAR
VERSION:2.0
PRODID:SchoolNow
CALSCALE:GREGORIAN
BEGIN:VEVENT
UID:fe6444d0-6221-11ee-829c-0a58a9feac02
DTSTAMP:20231004T190723Z
SUMMARY:No School!  Happy Thanksgiving!
URL;VALUE=URI:https://www.dickinson.k12.nd.us/schools/roosevelt/calendar/48
 27623/thanksgiving-no-school
DTSTART;VALUE=DATE:20231123
DTEND;VALUE=DATE:20231124
END:VEVENT
END:VCALENDAR
