BEGIN:VCALENDAR
VERSION:2.0
PRODID:SchoolNow
CALSCALE:GREGORIAN
BEGIN:VEVENT
UID:d17bfa4e-6221-11ee-9c39-0a58a9feac02
DTSTAMP:20231003T191948Z
SUMMARY:Veterans Day!
URL;VALUE=URI:https://www.dickinson.k12.nd.us/schools/roosevelt/calendar/48
 27620/veterans-day
DTSTART;VALUE=DATE:20231111
DTEND;VALUE=DATE:20231112
END:VEVENT
END:VCALENDAR
