BEGIN:VCALENDAR
VERSION:2.0
PRODID:SchoolNow
CALSCALE:GREGORIAN
BEGIN:VEVENT
UID:07058dee-51ae-11ee-8a69-0a58a9feac02
DTSTAMP:20231026T210124Z
SUMMARY:Picture Retakes!
URL;VALUE=URI:https://www.dickinson.k12.nd.us/schools/roosevelt/calendar/47
 24639/picture-retakes
DTSTART;VALUE=DATE:20231103
DTEND;VALUE=DATE:20231104
END:VEVENT
END:VCALENDAR
