BEGIN:VCALENDAR
VERSION:2.0
PRODID:SchoolNow
CALSCALE:GREGORIAN
BEGIN:VEVENT
UID:f7ef1550-51ad-11ee-8a1b-0a45cf66a709
DTSTAMP:20231003T195313Z
SUMMARY:Club's Choice Pick Up
URL;VALUE=URI:https://www.dickinson.k12.nd.us/schools/roosevelt/calendar/47
 24638/clubs-choice-pick-up
DTSTART:20231024T213000Z
DTEND:20231024T233000Z
END:VEVENT
END:VCALENDAR
