BEGIN:VCALENDAR
VERSION:2.0
PRODID:SchoolNow
CALSCALE:GREGORIAN
BEGIN:VEVENT
UID:de406258-51ad-11ee-b936-02d0a1be511f
DTSTAMP:20231003T195744Z
SUMMARY:No School!
URL;VALUE=URI:https://www.dickinson.k12.nd.us/schools/roosevelt/calendar/47
 24637/no-school
DTSTART;VALUE=DATE:20231020
DTEND;VALUE=DATE:20231021
END:VEVENT
END:VCALENDAR
