BEGIN:VCALENDAR
VERSION:2.0
PRODID:SchoolNow
CALSCALE:GREGORIAN
BEGIN:VEVENT
UID:d31096fa-51ad-11ee-8a39-0ebfe81b7035
DTSTAMP:20231003T195734Z
SUMMARY:No School!
URL;VALUE=URI:https://www.dickinson.k12.nd.us/schools/roosevelt/calendar/47
 24636/no-school
DTSTART;VALUE=DATE:20231019
DTEND;VALUE=DATE:20231020
END:VEVENT
END:VCALENDAR
