BEGIN:VCALENDAR
VERSION:2.0
PRODID:SchoolNow
CALSCALE:GREGORIAN
BEGIN:VEVENT
UID:c1c42e0c-51ad-11ee-874a-02d0a1be511f
DTSTAMP:20231003T195641Z
SUMMARY:P/T Conferences
URL;VALUE=URI:https://www.dickinson.k12.nd.us/schools/roosevelt/calendar/47
 24635/p-t-conferences
DTSTART:20231017T213000Z
DTEND:20231018T003000Z
END:VEVENT
END:VCALENDAR
