BEGIN:VCALENDAR
VERSION:2.0
PRODID:SchoolNow
CALSCALE:GREGORIAN
BEGIN:VEVENT
UID:b1206ab6-51ad-11ee-8745-0ebfe81b7035
DTSTAMP:20231003T195552Z
SUMMARY:P/T Conferences
URL;VALUE=URI:https://www.dickinson.k12.nd.us/schools/roosevelt/calendar/47
 24634/p-t-conferences
DTSTART:20231016T213000Z
DTEND:20231017T003000Z
END:VEVENT
END:VCALENDAR
