BEGIN:VCALENDAR
VERSION:2.0
PRODID:SchoolNow
CALSCALE:GREGORIAN
BEGIN:VEVENT
UID:876adcce-51ad-11ee-81a4-02d0a1be511f
DTSTAMP:20230912T204703Z
SUMMARY:No School!
URL;VALUE=URI:https://www.dickinson.k12.nd.us/schools/roosevelt/calendar/47
 24633/no-school
DTSTART;VALUE=DATE:20230925
DTEND;VALUE=DATE:20230926
END:VEVENT
END:VCALENDAR
