BEGIN:VCALENDAR
VERSION:2.0
PRODID:SchoolNow
CALSCALE:GREGORIAN
BEGIN:VEVENT
UID:5c2df91a-51ad-11ee-b93d-02e8d8296ed5
DTSTAMP:20230912T204711Z
SUMMARY:Club's Choice Orders and Money Due!
URL;VALUE=URI:https://www.dickinson.k12.nd.us/schools/roosevelt/calendar/47
 24632/clubs-choice-orders-and-money-due
DTSTART;VALUE=DATE:20230918
DTEND;VALUE=DATE:20230919
END:VEVENT
END:VCALENDAR
