BEGIN:VCALENDAR
VERSION:2.0
PRODID:SchoolNow
CALSCALE:GREGORIAN
BEGIN:VEVENT
UID:44303076-51ad-11ee-a2d0-0a58a9feac02
DTSTAMP:20230912T204511Z
SUMMARY:Picture Day!
URL;VALUE=URI:https://www.dickinson.k12.nd.us/schools/roosevelt/calendar/47
 24631/picture-day
DTSTART;VALUE=DATE:20230926
DTEND;VALUE=DATE:20230927
END:VEVENT
END:VCALENDAR
