BEGIN:VCALENDAR
VERSION:2.0
PRODID:SchoolNow
CALSCALE:GREGORIAN
BEGIN:VEVENT
UID:13e912de-2197-11ee-8ea9-0e28888e306f
DTSTAMP:20230713T160525Z
SUMMARY:Labor Day! No School!
URL;VALUE=URI:https://www.dickinson.k12.nd.us/schools/roosevelt/calendar/44
 94585/labor-day-no-school
DTSTART;VALUE=DATE:20230904
DTEND;VALUE=DATE:20230905
END:VEVENT
END:VCALENDAR
