BEGIN:VCALENDAR
VERSION:2.0
PRODID:SchoolNow
CALSCALE:GREGORIAN
BEGIN:VEVENT
UID:f185b328-2196-11ee-b0f4-0e28888e306f
DTSTAMP:20230713T160427Z
SUMMARY:Roosevelt's Open House
URL;VALUE=URI:https://www.dickinson.k12.nd.us/schools/roosevelt/calendar/44
 94584/roosevelts-open-house
DTSTART:20230821T230000Z
DTEND:20230822T000000Z
END:VEVENT
END:VCALENDAR
