BEGIN:VCALENDAR
VERSION:2.0
PRODID:SchoolNow
CALSCALE:GREGORIAN
BEGIN:VEVENT
UID:87691d7c-2196-11ee-98ec-0e28888e306f
DTSTAMP:20230713T160129Z
SUMMARY:1st Day of School!
URL;VALUE=URI:https://www.dickinson.k12.nd.us/schools/roosevelt/calendar/44
 94583/1st-day-of-school
DTSTART;VALUE=DATE:20230824
DTEND;VALUE=DATE:20230825
END:VEVENT
END:VCALENDAR
