BEGIN:VCALENDAR
VERSION:2.0
PRODID:SchoolNow
CALSCALE:GREGORIAN
BEGIN:VEVENT
UID:e4af2c1e-e9f2-11ed-9daf-02829fc8a909
DTSTAMP:20230503T204134Z
SUMMARY:Reading Rodeo
URL;VALUE=URI:https://www.dickinson.k12.nd.us/schools/roosevelt/calendar/41
 76310/reading-rodeo
DTSTART:20230503T224500Z
DTEND:20230504T000000Z
END:VEVENT
END:VCALENDAR
