BEGIN:VCALENDAR
VERSION:2.0
PRODID:SchoolNow
CALSCALE:GREGORIAN
BEGIN:VEVENT
UID:cb0f0874-e9f2-11ed-a32d-02829fc8a909
DTSTAMP:20230503T204051Z
SUMMARY:All Library Books Due!
URL;VALUE=URI:https://www.dickinson.k12.nd.us/schools/roosevelt/calendar/41
 76309/all-library-books-due
DTSTART;VALUE=DATE:20230517
DTEND;VALUE=DATE:20230518
END:VEVENT
END:VCALENDAR
