BEGIN:VCALENDAR
VERSION:2.0
PRODID:SchoolNow
CALSCALE:GREGORIAN
BEGIN:VEVENT
UID:b2665ec6-e9f2-11ed-ab4d-02829fc8a909
DTSTAMP:20230503T204227Z
SUMMARY:Running for Roosevelt!
URL;VALUE=URI:https://www.dickinson.k12.nd.us/schools/roosevelt/calendar/41
 76308/running-for-roosevelt
DTSTART:20230505T193000Z
DTEND:20230505T210000Z
END:VEVENT
END:VCALENDAR
