BEGIN:VCALENDAR
VERSION:2.0
PRODID:SchoolNow
CALSCALE:GREGORIAN
BEGIN:VEVENT
UID:7a90437e-d230-11ed-9c9c-0e6ae6a84c49
DTSTAMP:20230403T150219Z
SUMMARY:Last Day of School! 1pm Dismissal!
URL;VALUE=URI:https://www.dickinson.k12.nd.us/schools/roosevelt/calendar/39
 74536/last-day-of-school-1pm-dismissal
DTSTART;VALUE=DATE:20230525
DTEND;VALUE=DATE:20230526
END:VEVENT
END:VCALENDAR
