BEGIN:VCALENDAR
VERSION:2.0
PRODID:SchoolNow
CALSCALE:GREGORIAN
BEGIN:VEVENT
UID:47b0747e-d230-11ed-9da1-0e6ae6a84c49
DTSTAMP:20230403T150032Z
SUMMARY:1pm Dismissal!
URL;VALUE=URI:https://www.dickinson.k12.nd.us/schools/roosevelt/calendar/39
 74535/1pm-dismissal
DTSTART:20230428T190000Z
DTEND:20230428T210500Z
END:VEVENT
END:VCALENDAR
