BEGIN:VCALENDAR
VERSION:2.0
PRODID:SchoolNow
CALSCALE:GREGORIAN
BEGIN:VEVENT
UID:3362d782-d230-11ed-a659-0e6ae6a84c49
DTSTAMP:20230403T145958Z
SUMMARY:No School!
URL;VALUE=URI:https://www.dickinson.k12.nd.us/schools/roosevelt/calendar/39
 74534/no-school
DTSTART;VALUE=DATE:20230410
DTEND;VALUE=DATE:20230411
END:VEVENT
END:VCALENDAR
