BEGIN:VCALENDAR
VERSION:2.0
PRODID:SchoolNow
CALSCALE:GREGORIAN
BEGIN:VEVENT
UID:2ae4244e-d230-11ed-8972-0e6ae6a84c49
DTSTAMP:20230403T145943Z
SUMMARY:Happy Easter!
URL;VALUE=URI:https://www.dickinson.k12.nd.us/schools/roosevelt/calendar/39
 74533/happy-easter
DTSTART;VALUE=DATE:20230409
DTEND;VALUE=DATE:20230410
END:VEVENT
END:VCALENDAR
