BEGIN:VCALENDAR
VERSION:2.0
PRODID:SchoolNow
CALSCALE:GREGORIAN
BEGIN:VEVENT
UID:1a5dc6ac-d230-11ed-b7d9-0e6ae6a84c49
DTSTAMP:20230403T145916Z
SUMMARY:No School!
URL;VALUE=URI:https://www.dickinson.k12.nd.us/schools/roosevelt/calendar/39
 74531/no-school
DTSTART;VALUE=DATE:20230406
DTEND;VALUE=DATE:20230407
END:VEVENT
END:VCALENDAR
