BEGIN:VCALENDAR
VERSION:2.0
PRODID:SchoolNow
CALSCALE:GREGORIAN
BEGIN:VEVENT
UID:c06156aa-b871-11ed-9da9-0ed38469dd91
DTSTAMP:20230301T204341Z
SUMMARY:1st Day of Spring
URL;VALUE=URI:https://www.dickinson.k12.nd.us/schools/roosevelt/calendar/38
 01744/1st-day-of-spring
DTSTART;VALUE=DATE:20230320
DTEND;VALUE=DATE:20230321
END:VEVENT
END:VCALENDAR
