BEGIN:VCALENDAR
VERSION:2.0
PRODID:SchoolNow
CALSCALE:GREGORIAN
BEGIN:VEVENT
UID:a23cae7c-b871-11ed-8d86-0ed38469dd91
DTSTAMP:20230301T204251Z
SUMMARY:Daylight Savings Time
URL;VALUE=URI:https://www.dickinson.k12.nd.us/schools/roosevelt/calendar/38
 01743/daylight-savings-time
DTSTART;VALUE=DATE:20230312
DTEND;VALUE=DATE:20230313
END:VEVENT
END:VCALENDAR
