BEGIN:VCALENDAR
VERSION:2.0
PRODID:SchoolNow
CALSCALE:GREGORIAN
BEGIN:VEVENT
UID:84c7462c-b871-11ed-accc-0ed38469dd91
DTSTAMP:20230308T164112Z
SUMMARY:PAC Meeting @ 12pm
URL;VALUE=URI:https://www.dickinson.k12.nd.us/schools/roosevelt/calendar/38
 01742/pac-meeting
DTSTART:20230315T180000Z
DTEND:20230315T190000Z
END:VEVENT
END:VCALENDAR
