BEGIN:VCALENDAR
VERSION:2.0
PRODID:SchoolNow
CALSCALE:GREGORIAN
BEGIN:VEVENT
UID:7d87b4c8-b2ef-11ed-9320-0e72f406e80d
DTSTAMP:20230222T202839Z
SUMMARY:1st Grade Music Program
URL;VALUE=URI:https://www.dickinson.k12.nd.us/schools/roosevelt/calendar/37
 68303/1st-grade-music-program
DTSTART:20230308T020000Z
DTEND:20230308T030000Z
END:VEVENT
END:VCALENDAR
