BEGIN:VCALENDAR
VERSION:2.0
PRODID:SchoolNow
CALSCALE:GREGORIAN
BEGIN:VEVENT
UID:65c5508e-b2ef-11ed-9508-0e72f406e80d
DTSTAMP:20230222T202759Z
SUMMARY:1pm School Dismissal
URL;VALUE=URI:https://www.dickinson.k12.nd.us/schools/roosevelt/calendar/37
 68302/1pm-school-dismissal
DTSTART:20230324T190000Z
DTEND:20230324T210500Z
END:VEVENT
END:VCALENDAR
