BEGIN:VCALENDAR
VERSION:2.0
PRODID:SchoolNow
CALSCALE:GREGORIAN
BEGIN:VEVENT
UID:30cc2178-b2ef-11ed-a7e5-0e72f406e80d
DTSTAMP:20230222T202630Z
SUMMARY:Happy St. Patrick's Day!
URL;VALUE=URI:https://www.dickinson.k12.nd.us/schools/roosevelt/calendar/37
 68301/happy-st-patricks-day
DTSTART;VALUE=DATE:20230317
DTEND;VALUE=DATE:20230318
END:VEVENT
END:VCALENDAR
