BEGIN:VCALENDAR
VERSION:2.0
PRODID:SchoolNow
CALSCALE:GREGORIAN
BEGIN:VEVENT
UID:ffc52a3e-b2ee-11ed-8a69-0e72f406e80d
DTSTAMP:20230222T202508Z
SUMMARY:No School!
URL;VALUE=URI:https://www.dickinson.k12.nd.us/schools/roosevelt/calendar/37
 68300/no-school
DTSTART;VALUE=DATE:20230303
DTEND;VALUE=DATE:20230304
END:VEVENT
END:VCALENDAR
