BEGIN:VCALENDAR
VERSION:2.0
PRODID:SchoolNow
CALSCALE:GREGORIAN
BEGIN:VEVENT
UID:b655096e-9e6c-11ed-9883-0a61a2792e3f
DTSTAMP:20230127T180207Z
SUMMARY:End of 2nd Trimester
URL;VALUE=URI:https://www.dickinson.k12.nd.us/schools/roosevelt/calendar/36
 94971/end-of-2nd-trimester
DTSTART;VALUE=DATE:20230228
DTEND;VALUE=DATE:20230301
END:VEVENT
END:VCALENDAR
