BEGIN:VCALENDAR
VERSION:2.0
PRODID:SchoolNow
CALSCALE:GREGORIAN
BEGIN:VEVENT
UID:9b127786-9e6c-11ed-a49b-0a61a2792e3f
DTSTAMP:20230127T180121Z
SUMMARY:1pm Dismissal
URL;VALUE=URI:https://www.dickinson.k12.nd.us/schools/roosevelt/calendar/36
 94967/1pm-dismissal
DTSTART;VALUE=DATE:20230217
DTEND;VALUE=DATE:20230218
END:VEVENT
END:VCALENDAR
