BEGIN:VCALENDAR
VERSION:2.0
PRODID:SchoolNow
CALSCALE:GREGORIAN
BEGIN:VEVENT
UID:81f7f79e-9e6c-11ed-ab34-0a61a2792e3f
DTSTAMP:20230127T180039Z
SUMMARY:Valentine's Day
URL;VALUE=URI:https://www.dickinson.k12.nd.us/schools/roosevelt/calendar/36
 94966/valentines-day
DTSTART;VALUE=DATE:20230214
DTEND;VALUE=DATE:20230215
END:VEVENT
END:VCALENDAR
