BEGIN:VCALENDAR
VERSION:2.0
PRODID:SchoolNow
CALSCALE:GREGORIAN
BEGIN:VEVENT
UID:7615d57c-9e6c-11ed-a814-0a61a2792e3f
DTSTAMP:20230127T180019Z
SUMMARY:Book Fair
URL;VALUE=URI:https://www.dickinson.k12.nd.us/schools/roosevelt/calendar/36
 94965/book-fair
DTSTART:20230210T150000Z
DTEND:20230210T220000Z
END:VEVENT
END:VCALENDAR
