BEGIN:VCALENDAR
VERSION:2.0
PRODID:SchoolNow
CALSCALE:GREGORIAN
BEGIN:VEVENT
UID:65c02fe2-9e6c-11ed-8fd9-0a61a2792e3f
DTSTAMP:20230127T175951Z
SUMMARY:Book Fair
URL;VALUE=URI:https://www.dickinson.k12.nd.us/schools/roosevelt/calendar/36
 94963/book-fair
DTSTART:20230208T150000Z
DTEND:20230208T220000Z
END:VEVENT
END:VCALENDAR
