BEGIN:VCALENDAR
VERSION:2.0
PRODID:SchoolNow
CALSCALE:GREGORIAN
BEGIN:VEVENT
UID:53abf8e0-9e6c-11ed-a52d-0a61a2792e3f
DTSTAMP:20230127T175921Z
SUMMARY:Book Fair
URL;VALUE=URI:https://www.dickinson.k12.nd.us/schools/roosevelt/calendar/36
 94962/book-fair
DTSTART:20230207T150000Z
DTEND:20230208T013000Z
END:VEVENT
END:VCALENDAR
