BEGIN:VCALENDAR
VERSION:2.0
PRODID:SchoolNow
CALSCALE:GREGORIAN
BEGIN:VEVENT
UID:427f78c6-9e6c-11ed-a758-0a61a2792e3f
DTSTAMP:20230127T175852Z
SUMMARY:Book Fair
URL;VALUE=URI:https://www.dickinson.k12.nd.us/schools/roosevelt/calendar/36
 94947/book-fair
DTSTART:20230206T150000Z
DTEND:20230207T013000Z
END:VEVENT
END:VCALENDAR
