BEGIN:VCALENDAR
VERSION:2.0
PRODID:SchoolNow
CALSCALE:GREGORIAN
BEGIN:VEVENT
UID:e1a9b34a-9e6b-11ed-a17a-0a61a2792e3f
DTSTAMP:20230127T175610Z
SUMMARY:Parent/Teacher Conferences
URL;VALUE=URI:https://www.dickinson.k12.nd.us/schools/roosevelt/calendar/36
 94921/parent-teacher-conferences
DTSTART:20230207T223000Z
DTEND:20230208T013000Z
END:VEVENT
END:VCALENDAR
