BEGIN:VCALENDAR
VERSION:2.0
PRODID:SchoolNow
CALSCALE:GREGORIAN
BEGIN:VEVENT
UID:cb03e1f6-9e6b-11ed-b1a1-0a61a2792e3f
DTSTAMP:20230127T175532Z
SUMMARY:1pm Dismissal
URL;VALUE=URI:https://www.dickinson.k12.nd.us/schools/roosevelt/calendar/36
 94920/1pm-dismissal
DTSTART;VALUE=DATE:20230127
DTEND;VALUE=DATE:20230128
END:VEVENT
END:VCALENDAR
