BEGIN:VCALENDAR
VERSION:2.0
PRODID:SchoolNow
CALSCALE:GREGORIAN
BEGIN:VEVENT
UID:68c524fa-9e6b-11ed-b514-0a61a2792e3f
DTSTAMP:20230127T175512Z
SUMMARY:Parent/Teacher Conferences
URL;VALUE=URI:https://www.dickinson.k12.nd.us/schools/roosevelt/calendar/36
 94894/1pm-dismissal
DTSTART:20230206T223000Z
DTEND:20230207T013000Z
END:VEVENT
END:VCALENDAR
